BEGIN:VCALENDAR
VERSION:2.0
PRODID:-//Delaware Valley Saxophone Quartet - ECPv6.15.20//NONSGML v1.0//EN
CALSCALE:GREGORIAN
METHOD:PUBLISH
X-WR-CALNAME:Delaware Valley Saxophone Quartet
X-ORIGINAL-URL:https://www.delvalsaxquartet.com
X-WR-CALDESC:Events for Delaware Valley Saxophone Quartet
REFRESH-INTERVAL;VALUE=DURATION:PT1H
X-Robots-Tag:noindex
X-PUBLISHED-TTL:PT1H
BEGIN:VTIMEZONE
TZID:America/New_York
BEGIN:DAYLIGHT
TZOFFSETFROM:-0500
TZOFFSETTO:-0400
TZNAME:EDT
DTSTART:20160313T070000
END:DAYLIGHT
BEGIN:STANDARD
TZOFFSETFROM:-0400
TZOFFSETTO:-0500
TZNAME:EST
DTSTART:20161106T060000
END:STANDARD
BEGIN:DAYLIGHT
TZOFFSETFROM:-0500
TZOFFSETTO:-0400
TZNAME:EDT
DTSTART:20170312T070000
END:DAYLIGHT
BEGIN:STANDARD
TZOFFSETFROM:-0400
TZOFFSETTO:-0500
TZNAME:EST
DTSTART:20171105T060000
END:STANDARD
BEGIN:DAYLIGHT
TZOFFSETFROM:-0500
TZOFFSETTO:-0400
TZNAME:EDT
DTSTART:20180311T070000
END:DAYLIGHT
BEGIN:STANDARD
TZOFFSETFROM:-0400
TZOFFSETTO:-0500
TZNAME:EST
DTSTART:20181104T060000
END:STANDARD
BEGIN:DAYLIGHT
TZOFFSETFROM:-0500
TZOFFSETTO:-0400
TZNAME:EDT
DTSTART:20190310T070000
END:DAYLIGHT
BEGIN:STANDARD
TZOFFSETFROM:-0400
TZOFFSETTO:-0500
TZNAME:EST
DTSTART:20191103T060000
END:STANDARD
BEGIN:DAYLIGHT
TZOFFSETFROM:-0500
TZOFFSETTO:-0400
TZNAME:EDT
DTSTART:20200308T070000
END:DAYLIGHT
BEGIN:STANDARD
TZOFFSETFROM:-0400
TZOFFSETTO:-0500
TZNAME:EST
DTSTART:20201101T060000
END:STANDARD
BEGIN:DAYLIGHT
TZOFFSETFROM:-0500
TZOFFSETTO:-0400
TZNAME:EDT
DTSTART:20210314T070000
END:DAYLIGHT
BEGIN:STANDARD
TZOFFSETFROM:-0400
TZOFFSETTO:-0500
TZNAME:EST
DTSTART:20211107T060000
END:STANDARD
BEGIN:DAYLIGHT
TZOFFSETFROM:-0500
TZOFFSETTO:-0400
TZNAME:EDT
DTSTART:20220313T070000
END:DAYLIGHT
BEGIN:STANDARD
TZOFFSETFROM:-0400
TZOFFSETTO:-0500
TZNAME:EST
DTSTART:20221106T060000
END:STANDARD
BEGIN:DAYLIGHT
TZOFFSETFROM:-0500
TZOFFSETTO:-0400
TZNAME:EDT
DTSTART:20230312T070000
END:DAYLIGHT
BEGIN:STANDARD
TZOFFSETFROM:-0400
TZOFFSETTO:-0500
TZNAME:EST
DTSTART:20231105T060000
END:STANDARD
BEGIN:DAYLIGHT
TZOFFSETFROM:-0500
TZOFFSETTO:-0400
TZNAME:EDT
DTSTART:20240310T070000
END:DAYLIGHT
BEGIN:STANDARD
TZOFFSETFROM:-0400
TZOFFSETTO:-0500
TZNAME:EST
DTSTART:20241103T060000
END:STANDARD
BEGIN:DAYLIGHT
TZOFFSETFROM:-0500
TZOFFSETTO:-0400
TZNAME:EDT
DTSTART:20250309T070000
END:DAYLIGHT
BEGIN:STANDARD
TZOFFSETFROM:-0400
TZOFFSETTO:-0500
TZNAME:EST
DTSTART:20251102T060000
END:STANDARD
BEGIN:DAYLIGHT
TZOFFSETFROM:-0500
TZOFFSETTO:-0400
TZNAME:EDT
DTSTART:20260308T070000
END:DAYLIGHT
BEGIN:STANDARD
TZOFFSETFROM:-0400
TZOFFSETTO:-0500
TZNAME:EST
DTSTART:20261101T060000
END:STANDARD
END:VTIMEZONE
BEGIN:VEVENT
DTSTART;TZID=America/New_York:20251221T100000
DTEND;TZID=America/New_York:20251221T123000
DTSTAMP:20260423T194719
CREATED:20251021T214724Z
LAST-MODIFIED:20251023T164137Z
UID:1465-1766311200-1766320200@www.delvalsaxquartet.com
SUMMARY:Salem United Church of Christ Sunday Service
DESCRIPTION:December 21\, 10:00 am at the Salem United Church of Christ\, Doylestown\, PA
URL:https://www.delvalsaxquartet.com/event/salem-church-sunday-service/
LOCATION:Salem United Church of Christ\, 186 East Court Street\, Doylestown\, 18901\, United States
ATTACH;FMTTYPE=image/png:https://www.delvalsaxquartet.com/wp-content/uploads/2023/12/salem-church.png
END:VEVENT
BEGIN:VEVENT
DTSTART;TZID=America/New_York:20251206T140000
DTEND;TZID=America/New_York:20251206T144500
DTSTAMP:20260423T194719
CREATED:20251021T215432Z
LAST-MODIFIED:20251027T212322Z
UID:1456-1765029600-1765032300@www.delvalsaxquartet.com
SUMMARY:Delaware Valley University Holiday Concert
DESCRIPTION:Join the Delaware Valley Saxophone Quartet (DVSQ) at the Delaware Valley University Holiday Concert on Friday\, December 6 at 2:00 PM\, for an afternoon of festive music and community celebration. \n🎶 2:00–2:45 PM: Holiday music and reception in the Life Sciences Building \n🎺 3:00–4:30 PM: University & Community Symphonic and Jazz Band Holiday Concert in the auditorium — featuring three of the world-famous DVSQ players! \nEnjoy an afternoon of joyful sound\, student performances\, and holiday spirit — admission is free!
URL:https://www.delvalsaxquartet.com/event/delaware-valley-university-holiday-concert-4/
LOCATION:Delaware Valley University Life Sciences Bldg.\, 700 E Butler Ave\, Doylestown\, PA\, 18901\, United States
ATTACH;FMTTYPE=image/jpeg:https://www.delvalsaxquartet.com/wp-content/uploads/2025/10/delaware-valley-university.jpg
END:VEVENT
BEGIN:VEVENT
DTSTART;TZID=America/New_York:20251202T190000
DTEND;TZID=America/New_York:20251202T201500
DTSTAMP:20260423T194719
CREATED:20251021T174731Z
LAST-MODIFIED:20251110T153301Z
UID:1423-1764702000-1764706500@www.delvalsaxquartet.com
SUMMARY:Mercer Museum Holiday Open House
DESCRIPTION:[FREE ADMISSION] Kick off the holidays at the Mercer Museum Holiday Open House on Monday\, December 2 at 7:00 PM! \nEnjoy a live performance by the Delaware Valley Saxophone Quartet (DVSQ) from 7:30 PM – 8:15 PM\, along with festive crafts for kids\, seasonal treats\, and a visit from Santa in the historic Log House. \nIt’s a perfect way to celebrate the season with family and friends! \n📍 Mercer Museum Elkins Gallery\, Doylestown\, PA \nLearn More
URL:https://www.delvalsaxquartet.com/event/mercer-museum-holiday-open-house/
LOCATION:Mercer Museum\, 84 S Pine St\, Doylestown\, Doylestown\, Pennsylvania\, 18901\, United States
ATTACH;FMTTYPE=image/jpeg:https://www.delvalsaxquartet.com/wp-content/uploads/2023/04/fonthill-logo.jpg
END:VEVENT
BEGIN:VEVENT
DTSTART;TZID=America/New_York:20250703T193000
DTEND;TZID=America/New_York:20250703T203000
DTSTAMP:20260423T194719
CREATED:20250306T172734Z
LAST-MODIFIED:20250613T163942Z
UID:1412-1751571000-1751574600@www.delvalsaxquartet.com
SUMMARY:Rydal Park Senior Living Private Concert
DESCRIPTION:July 3\, 7:30 pm at Rydal Park\, Jenkintown\, PA
URL:https://www.delvalsaxquartet.com/event/rydal-park-senior-living-concert/
LOCATION:Rydal Park Residences\, 1515 The Fairway\, Jenkintown\, PA\, 19046\, United States
CATEGORIES:Private Event
ATTACH;FMTTYPE=image/jpeg:https://www.delvalsaxquartet.com/wp-content/uploads/2022/10/rydal-park.jpg
END:VEVENT
BEGIN:VEVENT
DTSTART;TZID=America/New_York:20240927T170000
DTEND;TZID=America/New_York:20240927T193000
DTSTAMP:20260423T194719
CREATED:20240420T173105Z
LAST-MODIFIED:20240805T160418Z
UID:1499-1727456400-1727465400@www.delvalsaxquartet.com
SUMMARY:Bucks County Symphony Orchestra "Music is the Magic" Fundraiser
DESCRIPTION:September 27\, 5:00 – 7:30 pm\, at the Michener Museum in Doylestown\, PA \n 
URL:https://www.delvalsaxquartet.com/event/bucks-county-symphony-orchestra-music-is-the-magic-fundraiser/
LOCATION:Michener Art Museum\, 138 S Pine St\, Doylestown\, PA\, 18901\, United States
ATTACH;FMTTYPE=image/jpeg:https://www.delvalsaxquartet.com/wp-content/uploads/2024/04/michener-art-museum.jpg
END:VEVENT
BEGIN:VEVENT
DTSTART;TZID=America/New_York:20240421T150000
DTEND;TZID=America/New_York:20240421T160000
DTSTAMP:20260423T194719
CREATED:20240311T174654Z
LAST-MODIFIED:20240313T162742Z
UID:1490-1713711600-1713715200@www.delvalsaxquartet.com
SUMMARY:Benefit Concert at Salem Church
DESCRIPTION:The” world famous” Delaware Valley Saxophone Quartet (DVSQ) will do a\nbenefit concert for Salem Church on April 21\, 2024\, at 3:00 PM in the\nSalem sanctuary. The admission is a requested minimum donation of\n$10.00 per person.
URL:https://www.delvalsaxquartet.com/event/benefit-concert-at-salem-church/
LOCATION:Salem United Church of Christ\, 186 East Court Street\, Doylestown\, 18901\, United States
ATTACH;FMTTYPE=image/png:https://www.delvalsaxquartet.com/wp-content/uploads/2023/12/salem-church.png
END:VEVENT
BEGIN:VEVENT
DTSTART;TZID=America/New_York:20231102T170000
DTEND;TZID=America/New_York:20231102T190000
DTSTAMP:20260423T194719
CREATED:20230825T174259Z
LAST-MODIFIED:20231114T215750Z
UID:1420-1698944400-1698951600@www.delvalsaxquartet.com
SUMMARY:37th Annual Bucks Fever Art & Sculpture Exhibition Opening Reception
DESCRIPTION:
URL:https://www.delvalsaxquartet.com/event/37th-annual-bucks-fever-art-sculpture-exhibition-opening-reception/
LOCATION:Faulkner Honda\, 4311 West Swamp Road\, Doylestown\, PA\, 18902\, United States
ATTACH;FMTTYPE=image/jpeg:https://www.delvalsaxquartet.com/wp-content/uploads/2023/08/central-bucks-art-exhibition.jpg
END:VEVENT
BEGIN:VEVENT
DTSTART;TZID=America/New_York:20230531T120000
DTEND;TZID=America/New_York:20230531T130000
DTSTAMP:20260423T194719
CREATED:20230425T154733Z
LAST-MODIFIED:20230425T181315Z
UID:1315-1685534400-1685538000@www.delvalsaxquartet.com
SUMMARY:Central Bucks Chamber of Commerce Brown Bag It With The Arts
DESCRIPTION:Free weekly performing art series on the lawn of the Bucks County Administration Building\, (Old Courthouse) in Doylestown.\nSponsored by: Peddler’s Village & Carroll Engineering Corporation
URL:https://www.delvalsaxquartet.com/event/cbcc-brown-bag-it/
LOCATION:Bucks County Courthouse – Lawn
CATEGORIES:All
ATTACH;FMTTYPE=image/jpeg:https://www.delvalsaxquartet.com/wp-content/uploads/2023/04/cbcc-logo.jpg
END:VEVENT
BEGIN:VEVENT
DTSTART;VALUE=DATE:20230216
DTEND;VALUE=DATE:20230217
DTSTAMP:20260423T194719
CREATED:20221024T201229Z
LAST-MODIFIED:20221024T201307Z
UID:844-1676505600-1676591999@www.delvalsaxquartet.com
SUMMARY:Rydal Park Residences Evening Concert
DESCRIPTION:Private Event.
URL:https://www.delvalsaxquartet.com/event/rydal-park-residences-evening-concert/
LOCATION:Rydal Park Residences\, 1515 The Fairway\, Jenkintown\, PA\, 19046\, United States
END:VEVENT
BEGIN:VEVENT
DTSTART;TZID=America/New_York:20221211T143000
DTEND;TZID=America/New_York:20221211T163000
DTSTAMP:20260423T194719
CREATED:20221024T175848Z
LAST-MODIFIED:20221024T175848Z
UID:838-1670769000-1670776200@www.delvalsaxquartet.com
SUMMARY:Lakeview Assisted Living Holiday Concert
DESCRIPTION:
URL:https://www.delvalsaxquartet.com/event/lakeview-assisted-living-holiday-concert/
LOCATION:Lakeview Assisted Living\, 2425 Lower State Rd\,\, Doylestown\, PA\, 18901\, United States
END:VEVENT
BEGIN:VEVENT
DTSTART;TZID=America/New_York:20221206T173000
DTEND;TZID=America/New_York:20221206T193000
DTSTAMP:20260423T194719
CREATED:20221024T174945Z
LAST-MODIFIED:20221024T175232Z
UID:832-1670347800-1670355000@www.delvalsaxquartet.com
SUMMARY:Mercer Museum Concert
DESCRIPTION:See Mercer Museum for details.
URL:https://www.delvalsaxquartet.com/event/mercer-museum-concert/
LOCATION:Mercer Museum\, 84 S Pine St\, Doylestown\, Doylestown\, Pennsylvania\, 18901\, United States
END:VEVENT
BEGIN:VEVENT
DTSTART;TZID=America/New_York:20221204T140000
DTEND;TZID=America/New_York:20221204T150000
DTSTAMP:20260423T194719
CREATED:20221024T175453Z
LAST-MODIFIED:20221024T175453Z
UID:836-1670162400-1670166000@www.delvalsaxquartet.com
SUMMARY:Delaware Valley University Holiday Concert
DESCRIPTION:Prior to Delaware Valley University Symphonic Band and Jazz Band Concert.
URL:https://www.delvalsaxquartet.com/event/delaware-valley-university-holiday-concert-3/
LOCATION:Delaware Valley University Life Sciences Building\, 700 E Butler Ave.\, Doylestown\, PA\, 18901\, United States
END:VEVENT
BEGIN:VEVENT
DTSTART;TZID=America/New_York:20221110T170000
DTEND;TZID=America/New_York:20221110T183000
DTSTAMP:20260423T194719
CREATED:20221024T173903Z
LAST-MODIFIED:20221024T173941Z
UID:828-1668099600-1668105000@www.delvalsaxquartet.com
SUMMARY:Central Bucks Chamber of Commerce Arts Festival
DESCRIPTION:This performance is part of the Opening of the Central Bucks Chamber of Commerce Arts Festival.
URL:https://www.delvalsaxquartet.com/event/opening-of-central-bucks-chamber-of-commerce-arts-festival/
LOCATION:Mercantile Center\, 444 N Main St\, Doylestown\, PA\, 18901\, United States
END:VEVENT
BEGIN:VEVENT
DTSTART;TZID=America/New_York:20190622T100000
DTEND;TZID=America/New_York:20190622T190000
DTSTAMP:20260423T194719
CREATED:20190412T224400Z
LAST-MODIFIED:20190412T233602Z
UID:800-1561197600-1561230000@www.delvalsaxquartet.com
SUMMARY:Joyful Noise 8 Music Festival
DESCRIPTION:Come enjoy a variety of live bands and performers including the Delaware Valley Saxophone Quartet\, delicious food\, creative creations that are sold by our vendors\, classic cars in the car show\, kid’s activities\, a petting zoo from Last Chance Ranch\, crafts\, raffles and more! \nTheDelaware Valley Saxophone Quartet performance takes place from 2:35-3:20 PM!\nAll proceeds from this wonderful family event will benefit local food pantries. \nCheck out the Saint Paul’s Evangelical Lutheran Church of Applebachsville Joyful Noise 8 page for more details!
URL:https://www.delvalsaxquartet.com/event/800/
LOCATION:St. Paul’s Lutheran Church of Applebachsville\, 837 Old Bethlehem Rd\, Quakertown\, PA\, 18951\, United States
END:VEVENT
BEGIN:VEVENT
DTSTART;TZID=America/New_York:20190418T170000
DTEND;TZID=America/New_York:20190418T190000
DTSTAMP:20260423T194719
CREATED:20181221T041845Z
LAST-MODIFIED:20190412T232909Z
UID:793-1555606800-1555614000@www.delvalsaxquartet.com
SUMMARY:Bucks Fever Art Festival Preview
DESCRIPTION:This performance is part of the 33rd Annual Bucks Fever Art Exhibition & Sculpture Show Opening Reception. \nPlease contact Central Bucks Chamber of Commerce for reservations.
URL:https://www.delvalsaxquartet.com/event/bucks-fever-art-festival-preview/
LOCATION:The Bridges at Warwick\, 1600 Almshouse Rd\, Jamison\, PA\, 18929
END:VEVENT
BEGIN:VEVENT
DTSTART;TZID=America/New_York:20190221T183000
DTEND;TZID=America/New_York:20190221T193000
DTSTAMP:20260423T194719
CREATED:20181221T041645Z
LAST-MODIFIED:20181221T211708Z
UID:789-1550773800-1550777400@www.delvalsaxquartet.com
SUMMARY:Pine Run Community Concert
DESCRIPTION:This is a special concert for the residents of the Pine Run Community.
URL:https://www.delvalsaxquartet.com/event/pine-run-community-concert/
LOCATION:Pine Run Community\, 777 Ferry Rd.\, Doylestown\, PA\, 18901\, United States
ORGANIZER;CN="":MAILTO:colewhiteley01@gmail.com
END:VEVENT
BEGIN:VEVENT
DTSTART;TZID=America/New_York:20181209T140000
DTEND;TZID=America/New_York:20181209T163000
DTSTAMP:20260423T194719
CREATED:20181205T192743Z
LAST-MODIFIED:20181205T205115Z
UID:782-1544364000-1544373000@www.delvalsaxquartet.com
SUMMARY:Delaware Valley University Holiday Music
DESCRIPTION:The quartet will perform holiday music at the Delaware Valley University Life Science Building in Doylestown from 2:00 to 2:45 PM. \nThe Delaware Valley Saxophone Quartet performance is followed by the annual Delaware Valley University Holiday Concert featuring the Chorale\, Jazz Band\, String Ensemble\, and Symphonic Band. \nThe concert will feature popular holiday music\, including sacred masterpieces\, well-known carols\, contemporary favorites and lesser-known gems. \nThe concert is open to the public and admission is free!
URL:https://www.delvalsaxquartet.com/event/delaware-valley-university-holiday-music/
LOCATION:Delaware Valley University Life Sciences Building\, 700 E Butler Ave.\, Doylestown\, PA\, 18901\, United States
END:VEVENT
BEGIN:VEVENT
DTSTART;TZID=America/New_York:20180906T193000
DTEND;TZID=America/New_York:20180906T203000
DTSTAMP:20260423T194719
CREATED:20180329T003612Z
LAST-MODIFIED:20180416T175116Z
UID:752-1536262200-1536265800@www.delvalsaxquartet.com
SUMMARY:Rydal Estates
DESCRIPTION:
URL:https://www.delvalsaxquartet.com/event/rydal-estates/
LOCATION:Rydal Estates\, Abington\, PA
CATEGORIES:Private Event
END:VEVENT
BEGIN:VEVENT
DTSTART;TZID=America/New_York:20180809T120000
DTEND;TZID=America/New_York:20180809T123000
DTSTAMP:20260423T194719
CREATED:20180329T003115Z
LAST-MODIFIED:20180725T191127Z
UID:745-1533816000-1533817800@www.delvalsaxquartet.com
SUMMARY:Classical\, Pop & Jazz in Nantucket
DESCRIPTION:Our Thursday afternoon concert in Nantucket is open to all with a small donation asked for the church.  This is a concert that will feature classical\, pop and jazz music.
URL:https://www.delvalsaxquartet.com/event/nantucket-ma-concert-tour/
LOCATION:Nantucket Unitarian Church\, 11 Orange Street\, Nantucket\, MA\, 02554\, United States
CATEGORIES:Nantucket Music
END:VEVENT
BEGIN:VEVENT
DTSTART;TZID=America/New_York:20180808T170000
DTEND;TZID=America/New_York:20180808T180000
DTSTAMP:20260423T194719
CREATED:20180725T191553Z
LAST-MODIFIED:20180730T150019Z
UID:767-1533747600-1533751200@www.delvalsaxquartet.com
SUMMARY:AQUARIUM Nantucket
DESCRIPTION:Join us for the Nantucket premiere of German Composer Andreas Willscher’s saxophone quartet arrangement of his “Aquarium.” A video backdrop portraying sea creatures featured in this unique piece is sure to please! Originally composed for organ\, the piece for this world premiere in Doylestown was arranged by Willscher exclusively for the Delaware Valley Saxophone Quartet. \nDonations are requested and benefit the Maria Mitchell Association and the Nantucket Music Conservatory.
URL:https://www.delvalsaxquartet.com/event/aquarium-nantucket/
LOCATION:First Congregational Church\, 62 Centre St\, Nantucket\, MA\, 02554\, United States
ATTACH;FMTTYPE=image/jpeg:https://www.delvalsaxquartet.com/wp-content/uploads/2017/03/andreas-willscher-aquarium-e1676330690137.jpg
END:VEVENT
BEGIN:VEVENT
DTSTART;TZID=America/New_York:20180704T130000
DTEND;TZID=America/New_York:20180704T160000
DTSTAMP:20260423T194719
CREATED:20180329T002907Z
LAST-MODIFIED:20180416T174004Z
UID:743-1530709200-1530720000@www.delvalsaxquartet.com
SUMMARY:Fonthill Castle's Old Fashioned Fourth of July Celebration
DESCRIPTION:Join us for the annual “Old Fashioned Fourth of July” Celebration 2018 at the Mercer Museum in Doylestown. This is our 10th year performing at the Bucks County 4th of July celebration. \nLearn More about this fun family event!
URL:https://www.delvalsaxquartet.com/event/fonthill-castles-old-fashioned-fourth-of-july-celebration/
LOCATION:Fonthill Museum\, 525 E Court St\, Doylestown\, PA\, 18901\, United States
CATEGORIES:4th of July,Bucks County Music,Fonthill
END:VEVENT
BEGIN:VEVENT
DTSTART;TZID=America/New_York:20180605T173000
DTEND;TZID=America/New_York:20180605T193000
DTSTAMP:20260423T194719
CREATED:20180329T002351Z
LAST-MODIFIED:20180416T172947Z
UID:741-1528219800-1528227000@www.delvalsaxquartet.com
SUMMARY:Mercer Museum Reception
DESCRIPTION:This is our 5th year performing for this celebration of Mercer Museum volunteers. Please contact the museum for additional information. \nContact the Mercer Museum
URL:https://www.delvalsaxquartet.com/event/mercer-museum-reception/
LOCATION:Mercer Museum\, 84 S Pine St\, Doylestown\, Doylestown\, Pennsylvania\, 18901\, United States
CATEGORIES:Private Event
END:VEVENT
BEGIN:VEVENT
DTSTART;TZID=America/New_York:20180426T170000
DTEND;TZID=America/New_York:20180426T190000
DTSTAMP:20260423T194719
CREATED:20180329T002042Z
LAST-MODIFIED:20180416T172919Z
UID:736-1524762000-1524769200@www.delvalsaxquartet.com
SUMMARY:Central Bucks Chamber of Commerce Bucks Fever Art Exhibit Opening Reception
DESCRIPTION:Please see the Central Bucks Chamber of Commerce events calendar for additional information. View the calendar HERE.
URL:https://www.delvalsaxquartet.com/event/central-bucks-chamber-of-commerce-bucks-fever-art-exhibit-opening-reception/
LOCATION:The Bridges at Warwick\, 1600 Almshouse Rd\, Jamison\, PA\, 18929
CATEGORIES:Bucks County Music
END:VEVENT
BEGIN:VEVENT
DTSTART;TZID=America/New_York:20171210T113000
DTEND;TZID=America/New_York:20171210T123000
DTSTAMP:20260423T194719
CREATED:20171113T165222Z
LAST-MODIFIED:20171113T172901Z
UID:709-1512905400-1512909000@www.delvalsaxquartet.com
SUMMARY:Bucks County 12th Annual TreeFest
DESCRIPTION:
URL:https://www.delvalsaxquartet.com/event/bucks-county-12th-annual-treefest/
LOCATION:Bucks County Visitors Center\, 3207 Street Road\, Bensalem\, PA\, 19020\, United States
ATTACH;FMTTYPE=image/jpeg:https://www.delvalsaxquartet.com/wp-content/uploads/2017/11/TreeFest-e1510594264776.jpg
END:VEVENT
BEGIN:VEVENT
DTSTART;TZID=America/New_York:20171204T190000
DTEND;TZID=America/New_York:20171204T190000
DTSTAMP:20260423T194719
CREATED:20171113T171833Z
LAST-MODIFIED:20171113T173333Z
UID:725-1512414000-1512414000@www.delvalsaxquartet.com
SUMMARY:Delaware Valley University Holiday Concert
DESCRIPTION:
URL:https://www.delvalsaxquartet.com/event/delaware-valley-university-holiday-concert/
LOCATION:Delaware Valley College Life Sciences Auditorium\, 700 E Butler Ave\, Doylestown\, PA\, 18901\, United States
ATTACH;FMTTYPE=image/jpeg:https://www.delvalsaxquartet.com/wp-content/uploads/2017/11/Del-Val-Life-Science-Center-1-e1510594334381.jpg
END:VEVENT
BEGIN:VEVENT
DTSTART;TZID=America/New_York:20171203T150000
DTEND;TZID=America/New_York:20171203T150000
DTSTAMP:20260423T194719
CREATED:20171113T171846Z
LAST-MODIFIED:20171113T173406Z
UID:715-1512313200-1512313200@www.delvalsaxquartet.com
SUMMARY:Delaware Valley University Holiday Concert
DESCRIPTION:
URL:https://www.delvalsaxquartet.com/event/delaware-valley-university-holiday-concert-2/
LOCATION:Delaware Valley College Life Sciences Auditorium\, 700 E Butler Ave\, Doylestown\, PA\, 18901\, United States
ATTACH;FMTTYPE=image/jpeg:https://www.delvalsaxquartet.com/wp-content/uploads/2017/11/Del-Val-Life-Science-Center-e1510594301892.jpg
END:VEVENT
BEGIN:VEVENT
DTSTART;TZID=America/New_York:20170704T120000
DTEND;TZID=America/New_York:20170704T124500
DTSTAMP:20260423T194719
CREATED:20170509T225330Z
LAST-MODIFIED:20170516T193647Z
UID:624-1499169600-1499172300@www.delvalsaxquartet.com
SUMMARY:Fonthill Museum Old Fashioned Fourth of July Celebration 2017
DESCRIPTION:
URL:https://www.delvalsaxquartet.com/event/fonthill-museum-4th-of-july-celebration-2017/
LOCATION:Fonthill Museum\, 525 E Court St\, Doylestown\, PA\, 18901\, United States
ATTACH;FMTTYPE=image/jpeg:https://www.delvalsaxquartet.com/wp-content/uploads/2017/05/delaware-valley-saxophone-quartet-Fonthill-July-4th-2016.jpg
END:VEVENT
BEGIN:VEVENT
DTSTART;TZID=America/New_York:20170608T050000
DTEND;TZID=America/New_York:20170608T190000
DTSTAMP:20260423T194719
CREATED:20170509T225933Z
LAST-MODIFIED:20170516T193833Z
UID:628-1496898000-1496948400@www.delvalsaxquartet.com
SUMMARY:Mercer Museum
DESCRIPTION:Contact the Mercer Museum for more information.
URL:https://www.delvalsaxquartet.com/event/mercer-museum-2/
LOCATION:Mercer Museum\, 84 S Pine St\, Doylestown\, Doylestown\, Pennsylvania\, 18901\, United States
ATTACH;FMTTYPE=image/jpeg:https://www.delvalsaxquartet.com/wp-content/uploads/2012/05/delaware-valley-saxophone-quartet-Mercer-Museum-Recognition-Event-2016.jpg
END:VEVENT
BEGIN:VEVENT
DTSTART;TZID=America/New_York:20170429T190000
DTEND;TZID=America/New_York:20170429T210000
DTSTAMP:20260423T194719
CREATED:20170315T112653Z
LAST-MODIFIED:20170421T120654Z
UID:613-1493492400-1493499600@www.delvalsaxquartet.com
SUMMARY:"Aquarium" World Premiere
DESCRIPTION:Join us for the world premiere of German Composer Andreas Willscher’s saxophone quartet arrangement of his “Aquarium.”  Originally composed for organ\, the piece for this world premiere in Doylestown was arranged by Willscher exclusively for the Delaware Valley Saxophone Quartet.
URL:https://www.delvalsaxquartet.com/event/aquarium-world-premiere/
LOCATION:Delaware Valley College Life Sciences Auditorium\, 700 E Butler Ave\, Doylestown\, PA\, 18901\, United States
ATTACH;FMTTYPE=image/jpeg:https://www.delvalsaxquartet.com/wp-content/uploads/2017/03/andreas-willscher-aquarium-e1676330690137.jpg
END:VEVENT
BEGIN:VEVENT
DTSTART;TZID=America/New_York:20170427T170000
DTEND;TZID=America/New_York:20170427T190000
DTSTAMP:20260423T194719
CREATED:20170315T111822Z
LAST-MODIFIED:20170315T205519Z
UID:606-1493312400-1493319600@www.delvalsaxquartet.com
SUMMARY:Central Bucks Chamber of Commerce Arts Festival Preview Reception
DESCRIPTION:The Delaware Valley saxophone Quartet will perform at the opening reception of the Central Bucks County Chamber of Commerce’s Preview Reception on April 27\, 2017.  The reception will be held at the Wellness Center\, Rt. 611 in Warrington\, PA from 5:00 to 7:00 PM.   This year’s Bucks Fever Art Exhibition is “Who am I?”\, an exhibition of self-portraits by Bucks County artists.  For more information\, contact: info@centralbuckschamber.com.
URL:https://www.delvalsaxquartet.com/event/central-bucks-chamber-of-commerce-arts-festival-preview-reception/
LOCATION:The Health & Wellness Center\, 847 Easton Road\, Route 611\, Warrington\, PA\, 18976\, United States
END:VEVENT
END:VCALENDAR