BEGIN:VCALENDAR
VERSION:2.0
PRODID:-//Delaware Valley Saxophone Quartet - ECPv6.15.20//NONSGML v1.0//EN
CALSCALE:GREGORIAN
METHOD:PUBLISH
X-WR-CALNAME:Delaware Valley Saxophone Quartet
X-ORIGINAL-URL:https://www.delvalsaxquartet.com
X-WR-CALDESC:Events for Delaware Valley Saxophone Quartet
REFRESH-INTERVAL;VALUE=DURATION:PT1H
X-Robots-Tag:noindex
X-PUBLISHED-TTL:PT1H
BEGIN:VTIMEZONE
TZID:America/New_York
BEGIN:DAYLIGHT
TZOFFSETFROM:-0500
TZOFFSETTO:-0400
TZNAME:EDT
DTSTART:20250309T070000
END:DAYLIGHT
BEGIN:STANDARD
TZOFFSETFROM:-0400
TZOFFSETTO:-0500
TZNAME:EST
DTSTART:20251102T060000
END:STANDARD
BEGIN:DAYLIGHT
TZOFFSETFROM:-0500
TZOFFSETTO:-0400
TZNAME:EDT
DTSTART:20260308T070000
END:DAYLIGHT
BEGIN:STANDARD
TZOFFSETFROM:-0400
TZOFFSETTO:-0500
TZNAME:EST
DTSTART:20261101T060000
END:STANDARD
BEGIN:DAYLIGHT
TZOFFSETFROM:-0500
TZOFFSETTO:-0400
TZNAME:EDT
DTSTART:20270314T070000
END:DAYLIGHT
BEGIN:STANDARD
TZOFFSETFROM:-0400
TZOFFSETTO:-0500
TZNAME:EST
DTSTART:20271107T060000
END:STANDARD
END:VTIMEZONE
BEGIN:VEVENT
DTSTART;VALUE=DATE:20260704
DTEND;VALUE=DATE:20260705
DTSTAMP:20260423T075844
CREATED:20260209T154945Z
LAST-MODIFIED:20260210T164348Z
UID:1319-1783123200-1783209599@www.delvalsaxquartet.com
SUMMARY:Fonthill Old Fashioned 4th of July Celebration
DESCRIPTION:July 4th\, 1:00 pm at the Fonthill Castle in Doylestown\, PA
URL:https://www.delvalsaxquartet.com/event/fonthill-old-fashioned-4th-of-july-celebration/
LOCATION:Fonthill Castle\, Doylestown\, PA
CATEGORIES:4th of July,Fonthill
ATTACH;FMTTYPE=image/jpeg:https://www.delvalsaxquartet.com/wp-content/uploads/2024/04/fonthill-castle.jpg
END:VEVENT
END:VCALENDAR