BEGIN:VCALENDAR
VERSION:2.0
PRODID:-//Delaware Valley Saxophone Quartet - ECPv6.15.20//NONSGML v1.0//EN
CALSCALE:GREGORIAN
METHOD:PUBLISH
X-ORIGINAL-URL:https://www.delvalsaxquartet.com
X-WR-CALDESC:Events for Delaware Valley Saxophone Quartet
REFRESH-INTERVAL;VALUE=DURATION:PT1H
X-Robots-Tag:noindex
X-PUBLISHED-TTL:PT1H
BEGIN:VTIMEZONE
TZID:America/New_York
BEGIN:DAYLIGHT
TZOFFSETFROM:-0500
TZOFFSETTO:-0400
TZNAME:EDT
DTSTART:20240310T070000
END:DAYLIGHT
BEGIN:STANDARD
TZOFFSETFROM:-0400
TZOFFSETTO:-0500
TZNAME:EST
DTSTART:20241103T060000
END:STANDARD
BEGIN:DAYLIGHT
TZOFFSETFROM:-0500
TZOFFSETTO:-0400
TZNAME:EDT
DTSTART:20250309T070000
END:DAYLIGHT
BEGIN:STANDARD
TZOFFSETFROM:-0400
TZOFFSETTO:-0500
TZNAME:EST
DTSTART:20251102T060000
END:STANDARD
BEGIN:DAYLIGHT
TZOFFSETFROM:-0500
TZOFFSETTO:-0400
TZNAME:EDT
DTSTART:20260308T070000
END:DAYLIGHT
BEGIN:STANDARD
TZOFFSETFROM:-0400
TZOFFSETTO:-0500
TZNAME:EST
DTSTART:20261101T060000
END:STANDARD
END:VTIMEZONE
BEGIN:VEVENT
DTSTART;TZID=America/New_York:20251202T190000
DTEND;TZID=America/New_York:20251202T201500
DTSTAMP:20260423T192944
CREATED:20251021T174731Z
LAST-MODIFIED:20251110T153301Z
UID:1423-1764702000-1764706500@www.delvalsaxquartet.com
SUMMARY:Mercer Museum Holiday Open House
DESCRIPTION:[FREE ADMISSION] Kick off the holidays at the Mercer Museum Holiday Open House on Monday\, December 2 at 7:00 PM! \nEnjoy a live performance by the Delaware Valley Saxophone Quartet (DVSQ) from 7:30 PM – 8:15 PM\, along with festive crafts for kids\, seasonal treats\, and a visit from Santa in the historic Log House. \nIt’s a perfect way to celebrate the season with family and friends! \n📍 Mercer Museum Elkins Gallery\, Doylestown\, PA \nLearn More
URL:https://www.delvalsaxquartet.com/event/mercer-museum-holiday-open-house/
LOCATION:Mercer Museum\, 84 S Pine St\, Doylestown\, Doylestown\, Pennsylvania\, 18901\, United States
ATTACH;FMTTYPE=image/jpeg:https://www.delvalsaxquartet.com/wp-content/uploads/2023/04/fonthill-logo.jpg
END:VEVENT
END:VCALENDAR